BEGIN:VCALENDAR
VERSION:2.0
PRODID:LFV Website-Kit
METHOD:PUBLISH
BEGIN:VEVENT
UID:lfv-39b21ec2-228d-4da9-bc61-be5300053a85
LOCATION:
SUMMARY:Dienstsport
DESCRIPTION:Termin Link: http://www.ffw-burgbernheim.de/termine/dienstsport-34/
URL:http://www.ffw-burgbernheim.de/termine/dienstsport-34/
CLASS:PRIVATE
DTSTART;TZID=Europe/Berlin:20260831T190000
DTEND;TZID=Europe/Berlin:20260831T200000
DTSTAMP:20260421T025612Z
END:VEVENT
END:VCALENDAR