BEGIN:VCALENDAR
VERSION:2.0
PRODID:LFV Website-Kit
METHOD:PUBLISH
BEGIN:VEVENT
UID:lfv-cbd45521-23ad-48e2-abaa-5219d01163f6
LOCATION:
SUMMARY:Dienstsport
DESCRIPTION:Termin Link: http://www.ffw-burgbernheim.de/termine/dienstsport-33/
URL:http://www.ffw-burgbernheim.de/termine/dienstsport-33/
CLASS:PRIVATE
DTSTART;TZID=Europe/Berlin:20260824T190000
DTEND;TZID=Europe/Berlin:20260824T200000
DTSTAMP:20260420T232216Z
END:VEVENT
END:VCALENDAR