BEGIN:VCALENDAR
VERSION:2.0
PRODID:LFV Website-Kit
METHOD:PUBLISH
BEGIN:VEVENT
UID:lfv-50db1b67-9f97-4012-93f3-439915a247d4
LOCATION:
SUMMARY:Dienstsport
DESCRIPTION:Termin Link: http://www.ffw-burgbernheim.de/termine/dienstsport-32/
URL:http://www.ffw-burgbernheim.de/termine/dienstsport-32/
CLASS:PRIVATE
DTSTART;TZID=Europe/Berlin:20260817T190000
DTEND;TZID=Europe/Berlin:20260817T200000
DTSTAMP:20260420T213454Z
END:VEVENT
END:VCALENDAR