BEGIN:VCALENDAR
VERSION:2.0
PRODID:LFV Website-Kit
METHOD:PUBLISH
BEGIN:VEVENT
UID:lfv-749586a4-9a0a-4151-b4da-1f35611a3975
LOCATION:
SUMMARY:Dienstsport
DESCRIPTION:Termin Link: http://www.ffw-burgbernheim.de/termine/dienstsport-31/
URL:http://www.ffw-burgbernheim.de/termine/dienstsport-31/
CLASS:PRIVATE
DTSTART;TZID=Europe/Berlin:20260810T190000
DTEND;TZID=Europe/Berlin:20260810T200000
DTSTAMP:20260420T165338Z
END:VEVENT
END:VCALENDAR