BEGIN:VCALENDAR
VERSION:2.0
PRODID:LFV Website-Kit
METHOD:PUBLISH
BEGIN:VEVENT
UID:lfv-d9ef8e2c-37d5-4512-8696-6c0b1eb0400b
LOCATION:
SUMMARY:Dienstsport
DESCRIPTION:Termin Link: http://www.ffw-burgbernheim.de/termine/dienstsport-30/
URL:http://www.ffw-burgbernheim.de/termine/dienstsport-30/
CLASS:PRIVATE
DTSTART;TZID=Europe/Berlin:20260803T190000
DTEND;TZID=Europe/Berlin:20260803T200000
DTSTAMP:20260420T115216Z
END:VEVENT
END:VCALENDAR