BEGIN:VCALENDAR
VERSION:2.0
PRODID:LFV Website-Kit
METHOD:PUBLISH
BEGIN:VEVENT
UID:lfv-44ee6b2b-c735-4eb3-9219-2bf9ac2af544
LOCATION:
SUMMARY:Dienstsport
DESCRIPTION:Termin Link: http://www.ffw-burgbernheim.de/termine/dienstsport-29/
URL:http://www.ffw-burgbernheim.de/termine/dienstsport-29/
CLASS:PRIVATE
DTSTART;TZID=Europe/Berlin:20260727T190000
DTEND;TZID=Europe/Berlin:20260727T200000
DTSTAMP:20260420T071715Z
END:VEVENT
END:VCALENDAR