BEGIN:VCALENDAR
VERSION:2.0
PRODID:LFV Website-Kit
METHOD:PUBLISH
BEGIN:VEVENT
UID:lfv-a60f7cad-4593-41e1-a033-09162f5a6fbe
LOCATION:
SUMMARY:Dienstsport
DESCRIPTION:Termin Link: http://www.ffw-burgbernheim.de/termine/dienstsport-28/
URL:http://www.ffw-burgbernheim.de/termine/dienstsport-28/
CLASS:PRIVATE
DTSTART;TZID=Europe/Berlin:20260720T190000
DTEND;TZID=Europe/Berlin:20260720T200000
DTSTAMP:20260420T024054Z
END:VEVENT
END:VCALENDAR