BEGIN:VCALENDAR
VERSION:2.0
PRODID:LFV Website-Kit
METHOD:PUBLISH
BEGIN:VEVENT
UID:lfv-7e760c86-8170-4f0b-81d7-376573046096
LOCATION:
SUMMARY:Dienstsport
DESCRIPTION:Termin Link: http://www.ffw-burgbernheim.de/termine/dienstsport-26/
URL:http://www.ffw-burgbernheim.de/termine/dienstsport-26/
CLASS:PRIVATE
DTSTART;TZID=Europe/Berlin:20260706T190000
DTEND;TZID=Europe/Berlin:20260706T200000
DTSTAMP:20260419T160311Z
END:VEVENT
END:VCALENDAR