BEGIN:VCALENDAR
VERSION:2.0
PRODID:LFV Website-Kit
METHOD:PUBLISH
BEGIN:VEVENT
UID:lfv-2c640565-5457-4d40-903a-78122b12a82f
LOCATION:
SUMMARY:Dienstsport
DESCRIPTION:Termin Link: http://www.ffw-burgbernheim.de/termine/dienstsport-15/
URL:http://www.ffw-burgbernheim.de/termine/dienstsport-15/
CLASS:PRIVATE
DTSTART;TZID=Europe/Berlin:20260420T190000
DTEND;TZID=Europe/Berlin:20260420T200000
DTSTAMP:20260421T084300Z
END:VEVENT
END:VCALENDAR