BEGIN:VCALENDAR
VERSION:2.0
PRODID:LFV Website-Kit
METHOD:PUBLISH
BEGIN:VEVENT
UID:lfv-1d79bba1-3aac-40ab-add6-bb699239e465
LOCATION:
SUMMARY:Atemschutzübung
DESCRIPTION:Termin Link: http://www.ffw-burgbernheim.de/termine/atemschutzubung_7/
URL:http://www.ffw-burgbernheim.de/termine/atemschutzubung_7/
CLASS:PRIVATE
DTSTART;TZID=Europe/Berlin:20261019T191500
DTEND;TZID=Europe/Berlin:20261019T201500
DTSTAMP:20260422T104851Z
END:VEVENT
END:VCALENDAR