BEGIN:VCALENDAR
VERSION:2.0
PRODID:LFV Website-Kit
METHOD:PUBLISH
BEGIN:VEVENT
UID:lfv-e18a805e-974b-48f0-a9bf-0592b7917096
LOCATION:
SUMMARY:Atemschutzübung
DESCRIPTION:Termin Link: http://www.ffw-burgbernheim.de/termine/atemschutzubung_6/
URL:http://www.ffw-burgbernheim.de/termine/atemschutzubung_6/
CLASS:PRIVATE
DTSTART;TZID=Europe/Berlin:20260917T191500
DTEND;TZID=Europe/Berlin:20260917T201500
DTSTAMP:20260421T125231Z
END:VEVENT
END:VCALENDAR