BEGIN:VCALENDAR
VERSION:2.0
PRODID:LFV Website-Kit
METHOD:PUBLISH
BEGIN:VEVENT
UID:lfv-cde2e275-f845-4c15-b46e-ab9c7dce494e
LOCATION:
SUMMARY:Atemschutzübung
DESCRIPTION:Termin Link: http://www.ffw-burgbernheim.de/termine/atemschutzubung_5/
URL:http://www.ffw-burgbernheim.de/termine/atemschutzubung_5/
CLASS:PRIVATE
DTSTART;TZID=Europe/Berlin:20260723T201500
DTEND;TZID=Europe/Berlin:20260723T211500
DTSTAMP:20260420T055219Z
END:VEVENT
END:VCALENDAR