BEGIN:VCALENDAR
VERSION:2.0
PRODID:LFV Website-Kit
METHOD:PUBLISH
BEGIN:VEVENT
UID:lfv-57fc0cd8-b78e-4a7d-bc46-6517a4261861
LOCATION:
SUMMARY:Atemschutzübung
DESCRIPTION:Termin Link: http://www.ffw-burgbernheim.de/termine/atemschutzubung_4/
URL:http://www.ffw-burgbernheim.de/termine/atemschutzubung_4/
CLASS:PRIVATE
DTSTART;TZID=Europe/Berlin:20260702T201500
DTEND;TZID=Europe/Berlin:20260702T211500
DTSTAMP:20260419T143339Z
END:VEVENT
END:VCALENDAR