BEGIN:VCALENDAR
VERSION:2.0
PRODID:LFV Website-Kit
METHOD:PUBLISH
BEGIN:VEVENT
UID:lfv-602d895b-fbc2-4baa-956b-bb7ba58dedc2
LOCATION:
SUMMARY:Absturzsicherung-Übung
DESCRIPTION:Termin Link: http://www.ffw-burgbernheim.de/termine/absturzsicherung-ubung_11/
URL:http://www.ffw-burgbernheim.de/termine/absturzsicherung-ubung_11/
CLASS:PRIVATE
DTSTART;TZID=Europe/Berlin:20261125T193000
DTEND;TZID=Europe/Berlin:20261125T203000
DTSTAMP:20260423T081047Z
END:VEVENT
END:VCALENDAR