BEGIN:VCALENDAR
VERSION:2.0
PRODID:LFV Website-Kit
METHOD:PUBLISH
BEGIN:VEVENT
UID:lfv-ca80af1b-efda-4141-beac-17684a602231
LOCATION:
SUMMARY:Absturzsicherung - Übung
DESCRIPTION:Termin Link: http://www.ffw-burgbernheim.de/termine/absturzsicherung-ubung_09/
URL:http://www.ffw-burgbernheim.de/termine/absturzsicherung-ubung_09/
CLASS:PRIVATE
DTSTART;TZID=Europe/Berlin:20260923T193000
DTEND;TZID=Europe/Berlin:20260923T203000
DTSTAMP:20260421T181349Z
END:VEVENT
END:VCALENDAR