BEGIN:VCALENDAR
VERSION:2.0
PRODID:LFV Website-Kit
METHOD:PUBLISH
BEGIN:VEVENT
UID:lfv-3aa15ef0-d7c8-4a57-9269-c47e95db10e9
LOCATION:
SUMMARY:Absturzsicherung - Übung
DESCRIPTION:Termin Link: http://www.ffw-burgbernheim.de/termine/absturzsicherung-ubung_07/
URL:http://www.ffw-burgbernheim.de/termine/absturzsicherung-ubung_07/
CLASS:PRIVATE
DTSTART;TZID=Europe/Berlin:20260722T193000
DTEND;TZID=Europe/Berlin:20260722T203000
DTSTAMP:20260420T041104Z
END:VEVENT
END:VCALENDAR